BEGIN:VCALENDAR
VERSION:2.0
PRODID:-//Nadja Thorman - ECPv6.15.20//NONSGML v1.0//EN
CALSCALE:GREGORIAN
METHOD:PUBLISH
X-WR-CALNAME:Nadja Thorman
X-ORIGINAL-URL:https://nadjathorman.de
X-WR-CALDESC:Veranstaltungen für Nadja Thorman
REFRESH-INTERVAL;VALUE=DURATION:PT1H
X-Robots-Tag:noindex
X-PUBLISHED-TTL:PT1H
BEGIN:VTIMEZONE
TZID:Europe/Berlin
BEGIN:DAYLIGHT
TZOFFSETFROM:+0100
TZOFFSETTO:+0200
TZNAME:CEST
DTSTART:20250330T010000
END:DAYLIGHT
BEGIN:STANDARD
TZOFFSETFROM:+0200
TZOFFSETTO:+0100
TZNAME:CET
DTSTART:20251026T010000
END:STANDARD
BEGIN:DAYLIGHT
TZOFFSETFROM:+0100
TZOFFSETTO:+0200
TZNAME:CEST
DTSTART:20260329T010000
END:DAYLIGHT
BEGIN:STANDARD
TZOFFSETFROM:+0200
TZOFFSETTO:+0100
TZNAME:CET
DTSTART:20261025T010000
END:STANDARD
BEGIN:DAYLIGHT
TZOFFSETFROM:+0100
TZOFFSETTO:+0200
TZNAME:CEST
DTSTART:20270328T010000
END:DAYLIGHT
BEGIN:STANDARD
TZOFFSETFROM:+0200
TZOFFSETTO:+0100
TZNAME:CET
DTSTART:20271031T010000
END:STANDARD
END:VTIMEZONE
BEGIN:VEVENT
DTSTART;TZID=Europe/Berlin:20260218T183000
DTEND;TZID=Europe/Berlin:20260225T210000
DTSTAMP:20260419T150202
CREATED:20251014T145519Z
LAST-MODIFIED:20251107T204745Z
UID:3500-1771439400-1772053200@nadjathorman.de
SUMMARY:Frühjahrs-Detox Wolkenleicht
DESCRIPTION:Wolkenleicht Menge\n	\n	\n\n		In den Warenkorb
URL:https://nadjathorman.de/veranstaltung/fruehjahrs-detox-wolkenleicht/
LOCATION:Online\, Germany
CATEGORIES:Ayurveda@home,Wolkenleicht,Workshop
ATTACH;FMTTYPE=image/webp:https://nadjathorman.de/wp-content/uploads/2025/09/Home_Retreat_Wolkenleicht_25.webp
ORGANIZER;CN="Nadja Thorman":MAILTO:info@nadjathorman.de
END:VEVENT
END:VCALENDAR